BEGIN:VCALENDAR
METHOD:PUBLISH
CALSCALE:GREGORIAN
PRODID:Philharmonie.lu
VERSION:2.0
BEGIN:VEVENT
DTSTAMP:20210425T193900
DTSTART:20151128T160000
DTEND:20151128T180000
LOCATION:Salle de Musique de Chambre
SUMMARY:trio recherche
DESCRIPTION:None
Arnold Schönberg: String Trio op.45
Clemens Gadenstätter: Streichtrio II (friktion)
Philipp Maintz: Paysages nouveaux
Helmut Lachenmann: Streichtrio
Anton Webern: Streichtrio op. 20
Iannis Xenakis: Ikhoor
UID:event1025@Philharmonie.lu
URL:https://www.philharmonie.lu/programm/trio-recherche/1025
END:VEVENT
END:VCALENDAR
