BEGIN:VCALENDAR
METHOD:PUBLISH
CALSCALE:GREGORIAN
PRODID:Philharmonie.lu
VERSION:2.0
BEGIN:VEVENT
DTSTAMP:20210425T192900
DTSTART:20181123T200000
DTEND:20181123T220000
LOCATION:Salle de Musique de Chambre
SUMMARY:«Un monde en soi» − Quatuor Diotima
DESCRIPTION:«Un monde en soi»
Ursula Mamlok: String Quartet N° 1
Rebecca Saunders: Unbreathed for string quartet
Sivan Eldar: Solicitations (création, commande Philharmonie)
Helmut Lachenmann: Gran Torso. Musik für Streichquartett
UID:event2129@Philharmonie.lu
URL:https://www.philharmonie.lu/programm/un-monde-en-soi-quatuor-diotima/2129
END:VEVENT
END:VCALENDAR
