BEGIN:VCALENDAR
METHOD:PUBLISH
CALSCALE:GREGORIAN
PRODID:Philharmonie.lu
VERSION:2.0
BEGIN:VEVENT
DTSTAMP:20210423T105600
DTSTART:20210604T190000
DTEND:20210604T210000
LOCATION:Grand Auditorium
SUMMARY:Vincent Peirani «Danses et contredanses» – Aventure+
DESCRIPTION:None
Igor Stravinsky: Danses concertantes
John Adams: The Chairman Dances.
Vincent Peirani: Clessidra (création, commande Philharmonie Luxembourg et La Comète, Châlons-en-Champagne)
UID:event2999@Philharmonie.lu
URL:https://www.philharmonie.lu/programm/vincent-peirani-danses-et-contredanses-aventure/2999
END:VEVENT
END:VCALENDAR
