BEGIN:VCALENDAR
METHOD:PUBLISH
CALSCALE:GREGORIAN
PRODID:Philharmonie.lu
VERSION:2.0
BEGIN:VEVENT
DTSTAMP:20210425T192600
DTSTART:20181118T120000
DTEND:20181118T140000
LOCATION:Toute la Ville de Luxembourg
SUMMARY:«Your place or mine I»
DESCRIPTION:Concerts in private residences &amp;amp; performative walks throughout the city
Lisa Streich: Pietà
Alvin Lucier: Music for Cello with One or More Amplified Vases 
Ui-Kyung Lee: AS LONG AS you LOVE ME
Salvatore Sciarrino: Let me die before I wake for clarinet
Natacha Diels: An Economy of Means 
Simon Steen-Andersen: Study for string instrument #2 
Pierre Jodlowski: Outerspace
Martin Schüttler: schöner leben 3 «Girl You Know It’s True» – M.V. für präparierte Flöte mit Neonröhre, Verstärkungen und Zuspielung
Max Murray: Ajax
Joanna Bailie: Artificial Environment N° 8
Clemens Gadenstätter: Tal para qual 
Simon Steen-Andersen: Beloved Brother 
UID:event2126@Philharmonie.lu
URL:https://www.philharmonie.lu/programm/your-place-or-mine-i/2126
END:VEVENT
END:VCALENDAR
