BEGIN:VCALENDAR
METHOD:PUBLISH
CALSCALE:GREGORIAN
PRODID:Philharmonie.lu
VERSION:2.0
BEGIN:VEVENT
DTSTAMP:20210425T192700
DTSTART:20181118T180000
DTEND:20181118T200000
LOCATION:Espace Découverte
SUMMARY:«Your place or mine II»
DESCRIPTION:Concert
Mátyás Wettl: Nocturne
Jessie Marino: Rot blau
Stefan Prins: Generation Kill 
Michael Beil: Exit to enter
UID:event2127@Philharmonie.lu
URL:https://www.philharmonie.lu/programm/your-place-or-mine-ii/2127
END:VEVENT
END:VCALENDAR
