BEGIN:VCALENDAR
METHOD:PUBLISH
CALSCALE:GREGORIAN
PRODID:Philharmonie.lu
VERSION:2.0
BEGIN:VEVENT
DTSTAMP:20210420T184100
DTSTART:20150627T220000
DTEND:20150628T000000
LOCATION:Grand Foyer
SUMMARY:10! / End-of-season party «Special Edition»
DESCRIPTION:None
UID:event981@Philharmonie.lu
URL:https://www.philharmonie.lu/programm/10-end-of-season-party-special-edition/981
END:VEVENT
END:VCALENDAR
