BEGIN:VCALENDAR
METHOD:PUBLISH
CALSCALE:GREGORIAN
PRODID:Philharmonie.lu
VERSION:2.0
BEGIN:VEVENT
DTSTAMP:20211009T014400
DTSTART:20211011T193000
DTEND:20211011T213000
LOCATION:Salle de Musique de Chambre
SUMMARY:Alexander Kaganovsky / Gerardo Vila
DESCRIPTION:None
Felix Mendelssohn Bartholdy: Sonate für Violoncello und Klavier op. 58/2 
Ludwig van Beethoven: Sonate für Violoncello und Klavier op. 69/3
Johannes Brahms: Sonate für Violoncello und Klavier op. 99/2
UID:event3560@Philharmonie.lu
URL:https://www.philharmonie.lu/programm/alexander-kaganovsky-gerardo-vila/3560
END:VEVENT
END:VCALENDAR
