BEGIN:VCALENDAR
METHOD:PUBLISH
CALSCALE:GREGORIAN
PRODID:Philharmonie.lu
VERSION:2.0
BEGIN:VEVENT
DTSTAMP:20211011T130500
DTSTART:20211109T193000
DTEND:20211109T213000
LOCATION:Salle de Musique de Chambre
SUMMARY:Alexander Melnikov
DESCRIPTION:None
Franz Schubert: Fantasie C-Dur (do majeur) D 760 «Wandererfantasie» (piano Alois Graff, Vienne, ca. 1835)
Frédéric Chopin: Études op. 10 (piano Érard, Paris, 1837)
Franz Liszt: Réminiscences de Don Juan (piano Bösendorfer, Vienne, ca. 1875)
Aleksandr Scriabine: Fantaisie op. 28 (piano Steinway, Hambourg, 2016)
Igor Stravinsky: Trois Mouvements de Petrouchka (piano Steinway, Hambourg, 2016)
UID:event3411@Philharmonie.lu
URL:https://www.philharmonie.lu/programm/alexander-melnikov/3411
END:VEVENT
END:VCALENDAR
