BEGIN:VCALENDAR
METHOD:PUBLISH
CALSCALE:GREGORIAN
PRODID:Philharmonie.lu
VERSION:2.0
BEGIN:VEVENT
DTSTAMP:20211011T130600
DTSTART:20211117T200000
DTEND:20211117T220000
LOCATION:Grand Auditorium
SUMMARY:Anne-Sophie Mutter & Mutter's Virtuosi
DESCRIPTION:None
Antonio Vivaldi: Concerto pour quatre violons, violoncelle et orchestre RV 580
Unsuk Chin: Gran Cadenza
Wolfgang A. Mozart: Streichquintett KV 614
Antonio Vivaldi: Le quattro stagioni
UID:event3419@Philharmonie.lu
URL:https://www.philharmonie.lu/programm/anne-sophie-mutter-mutters-virtuosi/3419
END:VEVENT
END:VCALENDAR
