BEGIN:VCALENDAR
METHOD:PUBLISH
CALSCALE:GREGORIAN
PRODID:Philharmonie.lu
VERSION:2.0
BEGIN:VEVENT
DTSTAMP:20211007T054400
DTSTART:20181020T103000
DTEND:20181020T113000
LOCATION:Auditorium
SUMMARY:«Aqualina»
DESCRIPTION:Spectacle musical et interactif pour les tout petits
UID:event2001@Philharmonie.lu
URL:https://www.philharmonie.lu/programm/aqualina/2001
END:VEVENT
END:VCALENDAR
