BEGIN:VCALENDAR
METHOD:PUBLISH
CALSCALE:GREGORIAN
PRODID:Philharmonie.lu
VERSION:2.0
BEGIN:VEVENT
DTSTAMP:20211011T130600
DTSTART:20211122T193000
DTEND:20211122T213000
LOCATION:Salle de Musique de Chambre
SUMMARY:Belcea Quartet
DESCRIPTION:None
Wolfgang A. Mozart: Streichquartett KV 590
Karol Szymanowski: Quatuor à cordes N° 1
Franz Schubert: Streichquartett D 810 «Der Tod und das Mädchen» / «La Jeune Fille et la Mort»
UID:event3433@Philharmonie.lu
URL:https://www.philharmonie.lu/programm/belcea-quartet/3433
END:VEVENT
END:VCALENDAR
