BEGIN:VCALENDAR
METHOD:PUBLISH
CALSCALE:GREGORIAN
PRODID:Philharmonie.lu
VERSION:2.0
BEGIN:VEVENT
DTSTAMP:20210425T193400
DTSTART:20161209T173000
DTEND:20161209T193000
LOCATION:HINWEISE
SUMMARY:«Black mirror»
DESCRIPTION:Concert installation
Alexander Schubert: Black Mirror  (création, commande United Instruments of Lucilin)
UID:event1397@Philharmonie.lu
URL:https://www.philharmonie.lu/programm/black-mirror/1397
END:VEVENT
END:VCALENDAR
