BEGIN:VCALENDAR
METHOD:PUBLISH
CALSCALE:GREGORIAN
PRODID:Philharmonie.lu
VERSION:2.0
BEGIN:VEVENT
DTSTAMP:20211011T130600
DTSTART:20211116T200000
DTEND:20211116T220000
LOCATION:Grand Auditorium
SUMMARY:Budapest Festival Orchestra / Iván Fischer / Tabea Zimmermann
DESCRIPTION:None
Robert Schumann: Konzertstück für vier Hörner und Orchester
Robert Schumann: Cellokonzert (arr. Tabea Zimmermann)
Claude Debussy: Printemps Suite symphonique (arr. Henri Büsser)
György Kurtág: Mouvement pour alto et orchestre
Maurice Ravel: Daphnis et Chloé. 2e suite
UID:event3418@Philharmonie.lu
URL:https://www.philharmonie.lu/programm/budapest-festival-orchestra-ivan-fischer-tabea-zimmermann/3418
END:VEVENT
END:VCALENDAR
