BEGIN:VCALENDAR
METHOD:PUBLISH
CALSCALE:GREGORIAN
PRODID:Philharmonie.lu
VERSION:2.0
BEGIN:VEVENT
DTSTAMP:20200127T150300
DTSTART:20191221T160000
DTEND:20191221T180000
LOCATION:Grand Auditorium
SUMMARY:Chrëschtconcert
DESCRIPTION:None
Georg Friedrich Händel: Dixit Dominus
Richard Eilenberg: Petersburger Schlittenfahrt op. 57
Traditional: «Il est né, le divin enfant» (arr. Kerry Turner)
Traditional: «Les Anges dans nos campagnes» (arr. I. Boumans)
Traditional: «O Tannenbaum» (arr. Kerry Turner)
Friedrich Silcher: «Alle Jahre wieder» (arr. Andreas Tarkmann)
Traditional: «O du fröhliche» (arr. Kerry Turner)
Mathieu Lamberty: «An der grousser hell&#39;ger Nuecht» (arr. I. Boumans)
Benjamin Britten: «This Little Babe» (A Ceremony of Carols)
Benjamin Britten: «Deo Gracias» (A Ceremony of Carols)
Adolphe Adam: «Minuit, Chrétiens» (arr. I. Boumans)
Katherine Kennicott Davis: «The Little Drummer Boy» (arr. Ivan Boumans)
J. W. Stole, Del Roma: «I Will Follow Him» (arr. Ivan Boumans)
Franz Xaver Gruber: «Stille Nacht, heilige Nacht» (arr. I. Boumans)
UID:event2389@Philharmonie.lu
URL:https://www.philharmonie.lu/programm/chreschtconcert/2389
END:VEVENT
END:VCALENDAR
