BEGIN:VCALENDAR
METHOD:PUBLISH
CALSCALE:GREGORIAN
PRODID:Philharmonie.lu
VERSION:2.0
BEGIN:VEVENT
DTSTAMP:20210424T015000
DTSTART:20201107T200000
DTEND:20201107T220000
LOCATION:Grand Auditorium
SUMMARY:Christian Schmitt / Joseph Moog / Benjamin Schäfer
DESCRIPTION:None
Gustav Merkel: Variationen über ein Thema aus Beethovens Klaviersonate op. 109
Johann Sebastian Bach: Fantasie und Fuge BWV 542
Benjamin Schäfer, Christian Schmitt: Klangreise für Perkussion und Orgel
Max Reger: Choralphantasie «Wachet auf, ruft uns die Stimme» op. 52/2
UID:event3121@Philharmonie.lu
URL:https://www.philharmonie.lu/programm/christian-schmitt-joseph-moog-benjamin-schafer/3121
END:VEVENT
END:VCALENDAR
