BEGIN:VCALENDAR
METHOD:PUBLISH
CALSCALE:GREGORIAN
PRODID:Philharmonie.lu
VERSION:2.0
BEGIN:VEVENT
DTSTAMP:20211011T130600
DTSTART:20211114T190000
DTEND:20211114T210000
LOCATION:Grand Auditorium
SUMMARY:Ciné-Concert | «Das alte Gesetz» 
DESCRIPTION:None
Film: Das alte Gesetz
Ewald André Dupont réalisation: None
Paul Reno scénario (d&#39;après Heinrich Laube): None
Ernst Deutsch, Henny Porten, Ruth Weyher, Hermann Vallentin…: None
Philippe Schœller musique: None
UID:event3417@Philharmonie.lu
URL:https://www.philharmonie.lu/programm/cine-concert-das-alte-gesetz/3417
END:VEVENT
END:VCALENDAR
