BEGIN:VCALENDAR
METHOD:PUBLISH
CALSCALE:GREGORIAN
PRODID:Philharmonie.lu
VERSION:2.0
BEGIN:VEVENT
DTSTAMP:20200127T144800
DTSTART:20180307T200000
DTEND:20180307T220000
LOCATION:Grand Auditorium
SUMMARY:Ciné-concert «On the Waterfront»
DESCRIPTION:None
Film: On the Waterfront
UID:event1702@Philharmonie.lu
URL:https://www.philharmonie.lu/programm/cine-concert-on-the-waterfront/1702
END:VEVENT
END:VCALENDAR
