BEGIN:VCALENDAR
METHOD:PUBLISH
CALSCALE:GREGORIAN
PRODID:Philharmonie.lu
VERSION:2.0
BEGIN:VEVENT
DTSTAMP:20210425T194300
DTSTART:20200322T110000
DTEND:20200322T130000
LOCATION:Salle de Musique de Chambre
SUMMARY:Concert-apéritif V – Amis de l'OPL
DESCRIPTION:None
Michaïl Ivanovitch Glinka: Grand sextuor pour piano et quintette à cordes
Sergeï Liapounov: Sextuor pour piano et cordes op. 63
UID:event2470@Philharmonie.lu
URL:https://www.philharmonie.lu/programm/concert-aperitif-v-amis-de-lopl/2470
END:VEVENT
END:VCALENDAR
