BEGIN:VCALENDAR
METHOD:PUBLISH
CALSCALE:GREGORIAN
PRODID:Philharmonie.lu
VERSION:2.0
BEGIN:VEVENT
DTSTAMP:20210425T194200
DTSTART:20200517T110000
DTEND:20200517T130000
LOCATION:Salle de Musique de Chambre
SUMMARY:Concert-apéritif VI – Amis de l'OPL
DESCRIPTION:None
Johann Sebastian Bach: Goldberg-Variationen BWV 988 (arr. Dmitry Sitkovetsky)
UID:event2520@Philharmonie.lu
URL:https://www.philharmonie.lu/programm/concert-aperitif-vi-amis-de-lopl/2520
END:VEVENT
END:VCALENDAR
