BEGIN:VCALENDAR
METHOD:PUBLISH
CALSCALE:GREGORIAN
PRODID:Philharmonie.lu
VERSION:2.0
BEGIN:VEVENT
DTSTAMP:20211007T063500
DTSTART:20170115T150000
DTEND:20170115T160000
LOCATION:Espace Découverte
SUMMARY:«De Pablo an dem Don Pedro säi Päerd»
DESCRIPTION:Eng Geschicht aus de Bierger vu Guatemala

UID:event1131@Philharmonie.lu
URL:https://www.philharmonie.lu/programm/de-pablo-an-dem-don-pedro-sai-paerd/1131
END:VEVENT
END:VCALENDAR
