BEGIN:VCALENDAR
METHOD:PUBLISH
CALSCALE:GREGORIAN
PRODID:Philharmonie.lu
VERSION:2.0
BEGIN:VEVENT
DTSTAMP:20211007T063300
DTSTART:20170305T150000
DTEND:20170305T160000
LOCATION:Espace Découverte
SUMMARY:«De Prënz ouni Schwäert»
DESCRIPTION:E spannenden Erzielconcert, de vun engem armeneschen Duduk begleet gëtt
UID:event1164@Philharmonie.lu
URL:https://www.philharmonie.lu/programm/de-prenz-ouni-schwaert/1164
END:VEVENT
END:VCALENDAR
