BEGIN:VCALENDAR
METHOD:PUBLISH
CALSCALE:GREGORIAN
PRODID:Philharmonie.lu
VERSION:2.0
BEGIN:VEVENT
DTSTAMP:20211007T054300
DTSTART:20190119T160000
DTEND:20190119T170000
LOCATION:Espace Découverte
SUMMARY:«Dem Bima seng Blummen»
DESCRIPTION:En Idonesisch Mäerchen iwwert de grouse Gamelan
UID:event2025@Philharmonie.lu
URL:https://www.philharmonie.lu/programm/dem-bima-seng-blummen/2025
END:VEVENT
END:VCALENDAR
