BEGIN:VCALENDAR
METHOD:PUBLISH
CALSCALE:GREGORIAN
PRODID:Philharmonie.lu
VERSION:2.0
BEGIN:VEVENT
DTSTAMP:20211007T063600
DTSTART:20161023T150000
DTEND:20161023T160000
LOCATION:Espace Découverte
SUMMARY:«Dem Gwilan seng Harf»
DESCRIPTION:Eng Geschicht aus de Schottëgen Highlands

UID:event1081@Philharmonie.lu
URL:https://www.philharmonie.lu/programm/dem-gwilan-seng-harf/1081
END:VEVENT
END:VCALENDAR
