BEGIN:VCALENDAR
METHOD:PUBLISH
CALSCALE:GREGORIAN
PRODID:Philharmonie.lu
VERSION:2.0
BEGIN:VEVENT
DTSTAMP:20211009T014300
DTSTART:20211009T110000
DTEND:20211009T120000
LOCATION:Espace Découverte
SUMMARY:«Der alte König und der Mond»
DESCRIPTION:Neue Abenteuer der Weltentdecker nach Motiven aus Fernão Mendes Pintos Peregrinação
UID:event3754@Philharmonie.lu
URL:https://www.philharmonie.lu/programm/der-alte-konig-und-der-mond/3754
END:VEVENT
END:VCALENDAR
