BEGIN:VCALENDAR
METHOD:PUBLISH
CALSCALE:GREGORIAN
PRODID:Philharmonie.lu
VERSION:2.0
BEGIN:VEVENT
DTSTAMP:20211009T014100
DTSTART:20211002T110000
DTEND:20211002T120000
LOCATION:Espace Découverte
SUMMARY:«D’Geschicht vum Babar, dem klengen Elefant»
DESCRIPTION:E Musektheaterstéck mat Schietspill an der Musek vum Francis Poulenc 

UID:event3765@Philharmonie.lu
URL:https://www.philharmonie.lu/programm/dgeschicht-vum-babar-dem-klengen-elefant/3765
END:VEVENT
END:VCALENDAR
