BEGIN:VCALENDAR
METHOD:PUBLISH
CALSCALE:GREGORIAN
PRODID:Philharmonie.lu
VERSION:2.0
BEGIN:VEVENT
DTSTAMP:20200127T150100
DTSTART:20200111T150000
DTEND:20200111T160000
LOCATION:Salle de Musique de Chambre
SUMMARY:«Die Geschichte von Valemon, dem Eisbärkönig»
DESCRIPTION:Musiktheater nach Motiven eines norwegischen Volksmärchens von Peter Christen Asbjørnsen und Jørgen Moe
UID:event2393@Philharmonie.lu
URL:https://www.philharmonie.lu/programm/die-geschichte-von-valemon-dem-eisbarkonig/2393
END:VEVENT
END:VCALENDAR
