BEGIN:VCALENDAR
METHOD:PUBLISH
CALSCALE:GREGORIAN
PRODID:Philharmonie.lu
VERSION:2.0
BEGIN:VEVENT
DTSTAMP:20211009T014500
DTSTART:20211012T193000
DTEND:20211012T213000
LOCATION:Salle de Musique de Chambre
SUMMARY:Divino Sospiro  – «Cosmopolitisme du baroque portugais»
DESCRIPTION:None
Carlos de Seixas: Sonate en sol mineur (g-moll) K 49
Francisco António de Almeida: «Un cor, ch&#39;ha per costume» (La Spinalba, ovvero Il vecchio matto)
Antonio Vivaldi: Sonate pour deux violons et basse continue RV 63 «La Follia» (d&#39;après / nach A. Corelli: Sonate op. 5/12)
Pedro António Avondano: «Questi al cor» (La morte d&#39;Abel)
António da Costa: Concerto grosso op. 1 N° 6 en si mineur (b-moll)
Pedro António Avondano: «Signor che mi traesti» (Gioas, Re di Giuda)
Pedro António Avondano: «Ah, se ho da vivere» (Gioas, Re di Giuda)
Charles Avison: Concerto grosso N° 5 en ré mineur (d-moll) (d&#39;après / nach Domenico Scarlatti)
João de Sousa Carvalho: «Se l’interno affanno mio» (Alcione)
UID:event3455@Philharmonie.lu
URL:https://www.philharmonie.lu/programm/divino-sospiro-cosmopolitisme-du-baroque-portugais/3455
END:VEVENT
END:VCALENDAR
