BEGIN:VCALENDAR
METHOD:PUBLISH
CALSCALE:GREGORIAN
PRODID:Philharmonie.lu
VERSION:2.0
BEGIN:VEVENT
DTSTAMP:20210423T110400
DTSTART:20210328T103000
DTEND:20210328T114500
LOCATION:Espace Découverte
SUMMARY:«D’Loopino fänkt de Sandkär aus der Wüst»
DESCRIPTION:None
UID:event2941@Philharmonie.lu
URL:https://www.philharmonie.lu/programm/dloopino-fankt-de-sandkar-aus-der-wust/2941
END:VEVENT
END:VCALENDAR
