BEGIN:VCALENDAR
METHOD:PUBLISH
CALSCALE:GREGORIAN
PRODID:Philharmonie.lu
VERSION:2.0
BEGIN:VEVENT
DTSTAMP:20200426T004500
DTSTART:20200229T200000
DTEND:20200229T220000
LOCATION:Grand Auditorium
SUMMARY:«ELVIS — from Vegas to Luxembourg»
DESCRIPTION:Steven Pitman, celebrating 20 years
Musique d&#39;Elvis Presley
UID:event2581@Philharmonie.lu
URL:https://www.philharmonie.lu/programm/elvis-from-vegas-to-luxembourg/2581
END:VEVENT
END:VCALENDAR
