BEGIN:VCALENDAR
METHOD:PUBLISH
CALSCALE:GREGORIAN
PRODID:Philharmonie.lu
VERSION:2.0
BEGIN:VEVENT
DTSTAMP:20211011T132700
DTSTART:20180707T210000
DTEND:20180707T230000
LOCATION:Grand Foyer
SUMMARY:«End-of-season party»
DESCRIPTION:None
UID:event2137@Philharmonie.lu
URL:https://www.philharmonie.lu/programm/end-of-season-party/2137
END:VEVENT
END:VCALENDAR
