BEGIN:VCALENDAR
METHOD:PUBLISH
CALSCALE:GREGORIAN
PRODID:Philharmonie.lu
VERSION:2.0
BEGIN:VEVENT
DTSTAMP:20211011T132600
DTSTART:20190706T210000
DTEND:20190706T230000
LOCATION:Grand Foyer
SUMMARY:«End-of-season party»
DESCRIPTION:None
UID:event2571@Philharmonie.lu
URL:https://www.philharmonie.lu/programm/end-of-season-party/2571
END:VEVENT
END:VCALENDAR
