BEGIN:VCALENDAR
METHOD:PUBLISH
CALSCALE:GREGORIAN
PRODID:Philharmonie.lu
VERSION:2.0
BEGIN:VEVENT
DTSTAMP:20210425T192100
DTSTART:20180609T141500
DTEND:20180609T161500
LOCATION:Salle de Musique de Chambre
SUMMARY:Festreeval — Part 1
DESCRIPTION:Concerts de bienfaisance au profit de rainforest.lu organisé par Fingertips a.s.b.l.
Johann Sebastian Bach: Goldberg-Variationen BWV 988 (arr. Josef Gabriel Rheinberger, Max Reger)
Robert Schumann: Sinfonischen Etüden op. 13
Johannes Brahms: Variationen über ein Thema von Robert Schumann op. 9
Robert Schumann: Abegg-Variationen op. 1
Aaron Copland: Piano Variations
Aaron Copland: Passacaglia
Karol Szymanowski: Variations sur un thème populaire polonais en si mineur op. 10
Wolfgang A. Mozart: Zwölf Variationen über «Ah, vous dirai-je Maman» KV 265
UID:event1824@Philharmonie.lu
URL:https://www.philharmonie.lu/programm/festreeval-part-1/1824
END:VEVENT
END:VCALENDAR
