BEGIN:VCALENDAR
METHOD:PUBLISH
CALSCALE:GREGORIAN
PRODID:Philharmonie.lu
VERSION:2.0
BEGIN:VEVENT
DTSTAMP:20211009T014600
DTSTART:20211016T210000
DTEND:20211016T230000
LOCATION:Grand Foyer
SUMMARY:Fête cap-verdienne
DESCRIPTION:None
UID:event3694@Philharmonie.lu
URL:https://www.philharmonie.lu/programm/fete-cap-verdienne/3694
END:VEVENT
END:VCALENDAR
