BEGIN:VCALENDAR
METHOD:PUBLISH
CALSCALE:GREGORIAN
PRODID:Philharmonie.lu
VERSION:2.0
BEGIN:VEVENT
DTSTAMP:20211009T014600
DTSTART:20211017T170000
DTEND:20211017T190000
LOCATION:Grand Auditorium
SUMMARY:Musique Militaire Grand-Ducale: «Finally: Curtain up!!!»
DESCRIPTION:Movies and more 
Musique de Star Wars, Harry Potter, Pirates of the Caribbean et autres
UID:event3695@Philharmonie.lu
URL:https://www.philharmonie.lu/programm/musique-militaire-grand-ducale-finally-curtain-up/3695
END:VEVENT
END:VCALENDAR
