BEGIN:VCALENDAR
METHOD:PUBLISH
CALSCALE:GREGORIAN
PRODID:Philharmonie.lu
VERSION:2.0
BEGIN:VEVENT
DTSTAMP:20211009T014100
DTSTART:20211001T103000
DTEND:20211001T123000
LOCATION:Philharmonie, Künstlereingang
SUMMARY:Führung
DESCRIPTION:Führung der Philharmonie in deutscher Sprache
UID:event3780@Philharmonie.lu
URL:https://www.philharmonie.lu/programm/fuhrung/3780
END:VEVENT
END:VCALENDAR
