BEGIN:VCALENDAR
METHOD:PUBLISH
CALSCALE:GREGORIAN
PRODID:Philharmonie.lu
VERSION:2.0
BEGIN:VEVENT
DTSTAMP:20211009T014400
DTSTART:20211010T190000
DTEND:20211010T210000
LOCATION:Grand Auditorium
SUMMARY:Gilberto Gil
DESCRIPTION:None
UID:event3454@Philharmonie.lu
URL:https://www.philharmonie.lu/programm/gilberto-gil/3454
END:VEVENT
END:VCALENDAR
