BEGIN:VCALENDAR
METHOD:PUBLISH
CALSCALE:GREGORIAN
PRODID:Philharmonie.lu
VERSION:2.0
BEGIN:VEVENT
DTSTAMP:20211009T014400
DTSTART:20211010T103000
DTEND:20211010T123000
LOCATION:Philharmonie, Künstlereingang
SUMMARY:Guided tour
DESCRIPTION:Guided tour in english
UID:event3785@Philharmonie.lu
URL:https://www.philharmonie.lu/programm/guided-tour/3785
END:VEVENT
END:VCALENDAR
