BEGIN:VCALENDAR
METHOD:PUBLISH
CALSCALE:GREGORIAN
PRODID:Philharmonie.lu
VERSION:2.0
BEGIN:VEVENT
DTSTAMP:20211011T130600
DTSTART:20211124T190000
DTEND:20211124T210000
LOCATION:Grand Auditorium
SUMMARY:Joyce DiDonato – Händel «Theodora»
DESCRIPTION:None
Georg Friedrich Händel: Theodora HWV 68
UID:event3435@Philharmonie.lu
URL:https://www.philharmonie.lu/programm/joyce-didonato-handel-theodora/3435
END:VEVENT
END:VCALENDAR
