BEGIN:VCALENDAR
METHOD:PUBLISH
CALSCALE:GREGORIAN
PRODID:Philharmonie.lu
VERSION:2.0
BEGIN:VEVENT
DTSTAMP:20211009T014800
DTSTART:20211023T200000
DTEND:20211023T220000
LOCATION:Grand Auditorium
SUMMARY:Joyce DiDonato 
DESCRIPTION:«Songplay»
UID:event3551@Philharmonie.lu
URL:https://www.philharmonie.lu/programm/joyce-didonato/3551
END:VEVENT
END:VCALENDAR
