BEGIN:VCALENDAR
METHOD:PUBLISH
CALSCALE:GREGORIAN
PRODID:Philharmonie.lu
VERSION:2.0
BEGIN:VEVENT
DTSTAMP:20211009T014700
DTSTART:20211020T193000
DTEND:20211020T213000
LOCATION:Salle de Musique de Chambre
SUMMARY:Joyce DiDonato
DESCRIPTION:«In my Solitude»
Joseph Haydn: Arianna a Naxos Hob.XXVIb:2
Gustav Mahler: Rückert-Lieder
Johann Adolf Hasse: «Morte col fiero aspetto» (Marc’ Antonio e Cleopatra)
Georg Friedrich Händel: «E pur così in un giorno – Piangerò la sorte mia» (Giulio Cesare)
Hector Berlioz: «Ah! Ah! Je vais mourir… Adieu fière cité» (Les Troyens)
Giuseppe Giordani: «Caro mio ben» (arr. Craig Terry)
Alessandro Parisotti: «Se tu m&#39;ami» (attr. G.B. Pergolesi) (arr. Craig Terry)
Duke Ellington: «(In My) Solitude» (arr. Craig Terry)
Louiguy: «La Vie en rose» (arr. Craig Terry)
UID:event3702@Philharmonie.lu
URL:https://www.philharmonie.lu/programm/joyce-didonato/3702
END:VEVENT
END:VCALENDAR
