BEGIN:VCALENDAR
METHOD:PUBLISH
CALSCALE:GREGORIAN
PRODID:Philharmonie.lu
VERSION:2.0
BEGIN:VEVENT
DTSTAMP:20211011T130700
DTSTART:20211128T190000
DTEND:20211128T210000
LOCATION:Grand Auditorium
SUMMARY:Khatia Buniatishvili
DESCRIPTION:None
Erik Satie: Gymnopédie N° 1 (Trois Gymnopédies)
Frédéric Chopin: Prélude op. 28/4
György Ligeti: Étude N° 5: Arc-en-ciel
Frédéric Chopin: Scherzo N° 3
Johann Sebastian Bach: Orchestersuite BWV 1068: 2. Air
Sergueï Rachmaninov: Vocalise op. 34/14 (arr. pour piano de Zoltán Kocsis)
Sergueï Rachmaninov: Prélude op. 32/12
Sergueï Rachmaninov: Prélude op. 23/5
Sergueï Rachmaninov: Moment musical op. 16/4
François Couperin: Les barricades mistérieuses (Pièces de clavecin, 2e livre, 6e ordre)
Johann Sebastian Bach: Präludium und Fuge BWV 543
Franz Liszt: Consolation N° 3
Franz Liszt: Ungarische Rhapsodie N° 6
UID:event3439@Philharmonie.lu
URL:https://www.philharmonie.lu/programm/khatia-buniatishvili/3439
END:VEVENT
END:VCALENDAR
