BEGIN:VCALENDAR
METHOD:PUBLISH
CALSCALE:GREGORIAN
PRODID:Philharmonie.lu
VERSION:2.0
BEGIN:VEVENT
DTSTAMP:20211009T014200
DTSTART:20211003T150000
DTEND:20211003T160000
LOCATION:Grand Auditorium
SUMMARY:«La Flûte enchantée»
DESCRIPTION:Spectacle musical avec pantomime d’après l’opéra de W. A. Mozart / 
Musiktheater mit Pantomime nach der Oper von W. A. Mozart 
UID:event3446@Philharmonie.lu
URL:https://www.philharmonie.lu/programm/la-flute-enchantee/3446
END:VEVENT
END:VCALENDAR
