BEGIN:VCALENDAR
METHOD:PUBLISH
CALSCALE:GREGORIAN
PRODID:Philharmonie.lu
VERSION:2.0
BEGIN:VEVENT
DTSTAMP:20211009T014700
DTSTART:20211023T110000
DTEND:20211023T120000
LOCATION:Espace Découverte
SUMMARY:«Le garçon et le poisson magique»
DESCRIPTION:Théâtre musical pour chant et percussions d’après le conte Le Pêcheur et sa femme des frères Grimm
UID:event3511@Philharmonie.lu
URL:https://www.philharmonie.lu/programm/le-garcon-et-le-poisson-magique/3511
END:VEVENT
END:VCALENDAR
