BEGIN:VCALENDAR
METHOD:PUBLISH
CALSCALE:GREGORIAN
PRODID:Philharmonie.lu
VERSION:2.0
BEGIN:VEVENT
DTSTAMP:20200817T085500
DTSTART:20200614T170000
DTEND:20200614T190000
LOCATION:Grand Auditorium
SUMMARY:«Lobgesang 2.0»
DESCRIPTION:Concert de clôture du Jubilé des 175 ans de la Maîtrise de la Cathédrale
Felix Mendelssohn Bartholdy: Lobgesang op. 52
Fanny Mendelssohn: «Meine Seele ist stille» Kantate für Sopran, Alt, vierstimmigen gemischten Chor und Orchester
UID:event2585@Philharmonie.lu
URL:https://www.philharmonie.lu/programm/lobgesang-20/2585
END:VEVENT
END:VCALENDAR
