BEGIN:VCALENDAR
METHOD:PUBLISH
CALSCALE:GREGORIAN
PRODID:Philharmonie.lu
VERSION:2.0
BEGIN:VEVENT
DTSTAMP:20210423T110400
DTSTART:20210327T103000
DTEND:20210327T114500
LOCATION:Espace Découverte
SUMMARY:«Loopino attrape le grain de sable du désert»
DESCRIPTION:None
UID:event2939@Philharmonie.lu
URL:https://www.philharmonie.lu/programm/loopino-attrape-le-grain-de-sable-du-desert/2939
END:VEVENT
END:VCALENDAR
