BEGIN:VCALENDAR
METHOD:PUBLISH
CALSCALE:GREGORIAN
PRODID:Philharmonie.lu
VERSION:2.0
BEGIN:VEVENT
DTSTAMP:20211009T014500
DTSTART:20211013T193000
DTEND:20211013T213000
LOCATION:Salle de Musique de Chambre
SUMMARY:Luísa Sobral
DESCRIPTION:None
UID:event3480@Philharmonie.lu
URL:https://www.philharmonie.lu/programm/luisa-sobral/3480
END:VEVENT
END:VCALENDAR
