BEGIN:VCALENDAR
METHOD:PUBLISH
CALSCALE:GREGORIAN
PRODID:Philharmonie.lu
VERSION:2.0
BEGIN:VEVENT
DTSTAMP:20200127T144600
DTSTART:20180117T190000
DTEND:20180117T210000
LOCATION:Salle de Musique de Chambre
SUMMARY:Maarja Nuut
DESCRIPTION:None
SACEM PROTECTED RIGHTS HOLDER: SACEM PROTECTED
UID:event1695@Philharmonie.lu
URL:https://www.philharmonie.lu/programm/maarja-nuut/1695
END:VEVENT
END:VCALENDAR
