BEGIN:VCALENDAR
METHOD:PUBLISH
CALSCALE:GREGORIAN
PRODID:Philharmonie.lu
VERSION:2.0
BEGIN:VEVENT
DTSTAMP:20211009T014900
DTSTART:20211028T100000
DTEND:20211028T110000
LOCATION:Espace Découverte
SUMMARY:«Mazuu Mazuuurka»
DESCRIPTION:Danses populaires d’Europe pour enfants jusqu’à 3 ans
Musique de Chopin, Enesco, Husa, Naragonia, Paderewski, Porumbescu, Szymanowski et danses folkloriques
UID:event3459@Philharmonie.lu
URL:https://www.philharmonie.lu/programm/mazuu-mazuuurka/3459
END:VEVENT
END:VCALENDAR
