BEGIN:VCALENDAR
METHOD:PUBLISH
CALSCALE:GREGORIAN
PRODID:Philharmonie.lu
VERSION:2.0
BEGIN:VEVENT
DTSTAMP:20211007T063700
DTSTART:20220122T200000
DTEND:20220122T220000
LOCATION:Grand Auditorium
SUMMARY:«Music for Peace»
DESCRIPTION:«The Armed Man – A Mass for Peace»
Karl Jenkins: The Armed Man − A Mass for Peace
Œuvres de Rutter, Williams et autres
UID:event3500@Philharmonie.lu
URL:https://www.philharmonie.lu/programm/music-for-peace/3500
END:VEVENT
END:VCALENDAR
