BEGIN:VCALENDAR
METHOD:PUBLISH
CALSCALE:GREGORIAN
PRODID:Philharmonie.lu
VERSION:2.0
BEGIN:VEVENT
DTSTAMP:20211007T054600
DTSTART:20180922T130000
DTEND:20180922T150000
LOCATION:Grand Auditorium
SUMMARY:Orchestramania: Journée portes ouvertes à la Philharmonie
DESCRIPTION:avec l&#39;OPL, Gustavo Gimeno, Serge Tonnar, Juri Tetzlaff...
UID:event2143@Philharmonie.lu
URL:https://www.philharmonie.lu/programm/orchestramania-journee-portes-ouvertes-a-la-philharmonie/2143
END:VEVENT
END:VCALENDAR
